BEGIN:VCALENDAR
VERSION:2.0
PRODID:-//Fundacja Marsz dla Nauki - ECPv6.0.13//NONSGML v1.0//EN
CALSCALE:GREGORIAN
METHOD:PUBLISH
X-ORIGINAL-URL:http://prawo.marszdlanauki.pl
X-WR-CALDESC:Events for Fundacja Marsz dla Nauki
REFRESH-INTERVAL;VALUE=DURATION:PT1H
X-Robots-Tag:noindex
X-PUBLISHED-TTL:PT1H
BEGIN:VTIMEZONE
TZID:Europe/Paris
BEGIN:DAYLIGHT
TZOFFSETFROM:+0100
TZOFFSETTO:+0200
TZNAME:CEST
DTSTART:20220327T010000
END:DAYLIGHT
BEGIN:STANDARD
TZOFFSETFROM:+0200
TZOFFSETTO:+0100
TZNAME:CET
DTSTART:20221030T010000
END:STANDARD
END:VTIMEZONE
BEGIN:VEVENT
DTSTART;VALUE=DATE:20221201
DTEND;VALUE=DATE:20221202
DTSTAMP:20260419T213225
CREATED:20220822T070036Z
LAST-MODIFIED:20230115T215414Z
UID:433-1669852800-1669939199@prawo.marszdlanauki.pl
SUMMARY:Publikacja Poradnika
DESCRIPTION:Prawo po stronie nauki_poradnik
URL:http://prawo.marszdlanauki.pl/event/http-prawo-marszdlanauki-pl-wp-content-uploads-2022-08-prawo-po-stronie-nauki_poradnik-pdf/
LOCATION:FB Fundacji\, Poland
CATEGORIES:Outreach
ATTACH;FMTTYPE=image/jpeg:http://prawo.marszdlanauki.pl/wp-content/uploads/2022/08/Empty_book-scaled.jpg
END:VEVENT
END:VCALENDAR